BEGIN:VCALENDAR
VERSION:2.0
PRODID:-//The Nobleminds PH - ECPv6.15.14//NONSGML v1.0//EN
CALSCALE:GREGORIAN
METHOD:PUBLISH
X-ORIGINAL-URL:https://www.thenoblemindsph.com
X-WR-CALDESC:Events for The Nobleminds PH
REFRESH-INTERVAL;VALUE=DURATION:PT1H
X-Robots-Tag:noindex
X-PUBLISHED-TTL:PT1H
BEGIN:VTIMEZONE
TZID:Asia/Manila
BEGIN:STANDARD
TZOFFSETFROM:+0800
TZOFFSETTO:+0800
TZNAME:PST
DTSTART:20220101T000000
END:STANDARD
END:VTIMEZONE
BEGIN:VEVENT
DTSTART;TZID=Asia/Manila:20230127T100000
DTEND;TZID=Asia/Manila:20230127T170000
DTSTAMP:20260426T063650
CREATED:20230106T011058Z
LAST-MODIFIED:20230126T055541Z
UID:5550-1674813600-1674838800@www.thenoblemindsph.com
SUMMARY:People Management in the Post-Pandemic Workplace: Motivate\, Empower and Lead People
DESCRIPTION:Module Description:\nIn this session\, the participants will be equipped with the necessary leadership and management skills in key areas of people management\, including motivation\, delegation and empowerment\, coaching and communication. The session is anchored on and espouses the applicability at work of the action-centered leadership framework: develop individuals\, build team\, and achieve tasks. At the end of the session\, the participants will be able to identify various strategies that will improve their relationship with their teams to make them more motivated\, empowered\, and engaged at work. \nDate and Time: January 27\, 2023 (10:00am – 5:00pm) \nLocation: Olongapo City Convention Center \nThe Resource Speaker and Expert \n \n  \nDiscount and Payment Scheme \nRegistration Fee \nPHP 3000 (Seminar) \nDiscount Scheme (Choose 1 discount scheme) \n– Package of 5 + 1 (send 5 delegates and get additional 1 for free) \n– 20% Discount for Academe/Students/Government/NGOs \n– 20% Discount for  Returning Clients/ Participants \n  \nRegister Now\n  \nFor Sponsorship/Registration \nLandline: 047-611-2446 \nGlobe: 0917-613-6822 \nSmart: 0960-905-9086 \nEmail: noblemindsph@gmail.com \nStay updated on all our learning events! \nVisit our social media accounts. \n  
URL:https://www.thenoblemindsph.com/event/people-management-in-the-post-pandemic-workplace-motivate-empower-and-lead-people/
LOCATION:Olongapo City Convention Center\, SM City Olongapo Central\, Philippines
ATTACH;FMTTYPE=image/jpeg:https://www.thenoblemindsph.com/wp-content/uploads/2023/01/SQUARE-LEADERSHIP-2.jpg
ORGANIZER;CN="The Nobleminds PH":MAILTO:noblemindsph@gmail.com
END:VEVENT
END:VCALENDAR