BEGIN:VCALENDAR
VERSION:2.0
PRODID:-//The Nobleminds PH - ECPv6.15.14//NONSGML v1.0//EN
CALSCALE:GREGORIAN
METHOD:PUBLISH
X-WR-CALNAME:The Nobleminds PH
X-ORIGINAL-URL:https://www.thenoblemindsph.com
X-WR-CALDESC:Events for The Nobleminds PH
REFRESH-INTERVAL;VALUE=DURATION:PT1H
X-Robots-Tag:noindex
X-PUBLISHED-TTL:PT1H
BEGIN:VTIMEZONE
TZID:Asia/Manila
BEGIN:STANDARD
TZOFFSETFROM:+0800
TZOFFSETTO:+0800
TZNAME:PST
DTSTART:20220101T000000
END:STANDARD
END:VTIMEZONE
BEGIN:VEVENT
DTSTART;TZID=Asia/Manila:20230427T080000
DTEND;TZID=Asia/Manila:20230428T120000
DTSTAMP:20260426T020700
CREATED:20230209T064944Z
LAST-MODIFIED:20230210T020502Z
UID:6070-1682582400-1682683200@www.thenoblemindsph.com
SUMMARY:The Power to Lead and Inspire Others: National Student & SK Leaders Congress
DESCRIPTION:Module Description: \n​​We need leaders of the future who can change the world; thus\, we need to prepare these young leaders now! Through involvement and collective actions\, this generation of student and SK leaders can become catalysts of change in their respective communities.  This leadership congress empowers youth leaders to become agents of hope\, inspiration\, and involvement within their respective schools and to the communities where they live\, and collectively become a staunch pillar for nation-building. \n  \nDate and Time:  \nDAY 1: April 27\, 2023 (8:00am – 5:00pm) \nDAY 2: April 28\, 2023 (8:00am – 12:00pm) \nLocation: Olongapo City Convention Center\, SM Central Olongapo City \n  \nDiscount and Payment Scheme \nRegistration Fee \nPHP 2500 \nDiscount Scheme (Choose 1 discount scheme) \n– Package of 5 + 1 (send 10 delegates and get additional 1 for free) \n– 10% Discount for Early Birds until March 17\, 2023) \nRegister Now\n  \nFor Sponsorship/Registration \nLandline: 047-611-2446 \nGlobe: 0917-613-6822 \nSmart: 0960-905-9086 \nEmail: noblemindsph@gmail.com \nStay updated on all our learning events! \n  
URL:https://www.thenoblemindsph.com/event/the-power-to-lead-and-inspire-others-national-student-sk-leaders-congress/
END:VEVENT
END:VCALENDAR