BEGIN:VCALENDAR
VERSION:2.0
PRODID:-//The Nobleminds PH - ECPv6.15.14//NONSGML v1.0//EN
CALSCALE:GREGORIAN
METHOD:PUBLISH
X-WR-CALNAME:The Nobleminds PH
X-ORIGINAL-URL:https://www.thenoblemindsph.com
X-WR-CALDESC:Events for The Nobleminds PH
REFRESH-INTERVAL;VALUE=DURATION:PT1H
X-Robots-Tag:noindex
X-PUBLISHED-TTL:PT1H
BEGIN:VTIMEZONE
TZID:Asia/Manila
BEGIN:STANDARD
TZOFFSETFROM:+0800
TZOFFSETTO:+0800
TZNAME:PST
DTSTART:20220101T000000
END:STANDARD
END:VTIMEZONE
BEGIN:VEVENT
DTSTART;TZID=Asia/Manila:20230526T130000
DTEND;TZID=Asia/Manila:20230530T170000
DTSTAMP:20260425T232152
CREATED:20230209T070513Z
LAST-MODIFIED:20231115T024648Z
UID:6087-1685106000-1685466000@www.thenoblemindsph.com
SUMMARY:Leadership in Times of Uncertainties: Resilience in the VUCA+D World
DESCRIPTION:Module Description: \nA crisis situation is a test of leadership where leaders are put in an unfamiliar situation that they must respond to. It is in this crucial period that leaders should be keen in calculating the situation and turn the crisis into opportunities. In this session\, the participants are equipped with various strategies to navigate through the situation and become familiar with the nature of the crisis. While these strategies may not necessarily provide solutions\, however\, putting them into action empowers leaders to be more confident in their leadership roles\, allowing their organizations to have legs to stand on\, while traversing the unstable and unpredictable crisis situation. \nDate and Time:  \nSeminar: May 26\, 2023 (1:00 – 5:00pm) \nLocation: Olongapo City Convention Center\, SM Central Olongapo City \nWebinar via Zoom: May 30\, 2023 (1:00 – 4:00pm) \n  \nThe Resource Speaker and Expert \n \n  \nDiscount Scheme (Choose 1 discount scheme) \n– Package of 5 + 1 (send 5 delegates and get additional 1 for free) \n– 20% Discount for Academe/Students/Government/NGOs \n– 15% Discount for  Early bird/ Participants \nRegister Now\n  \nFor Sponsorship/Registration \nLandline: 047-611-2446 \nGlobe: 0917-613-6822 \nSmart: 0960-905-9086 \nEmail: noblemindsph@gmail.com \n  \nStay updated on all our learning events! \nVisit our social media accounts. \n  
URL:https://www.thenoblemindsph.com/event/leadership-in-times-of-uncertainties-resilience-in-the-vucad-world/
LOCATION:Olongapo City Convention Center\, SM City Olongapo Central\, Philippines
ATTACH;FMTTYPE=image/jpeg:https://www.thenoblemindsph.com/wp-content/uploads/2023/02/MAY-INFOGRAPHICS-1.jpg
END:VEVENT
END:VCALENDAR