BEGIN:VCALENDAR
VERSION:2.0
PRODID:-//The Nobleminds PH - ECPv6.15.14//NONSGML v1.0//EN
CALSCALE:GREGORIAN
METHOD:PUBLISH
X-WR-CALNAME:The Nobleminds PH
X-ORIGINAL-URL:https://www.thenoblemindsph.com
X-WR-CALDESC:Events for The Nobleminds PH
REFRESH-INTERVAL;VALUE=DURATION:PT1H
X-Robots-Tag:noindex
X-PUBLISHED-TTL:PT1H
BEGIN:VTIMEZONE
TZID:Asia/Manila
BEGIN:STANDARD
TZOFFSETFROM:+0800
TZOFFSETTO:+0800
TZNAME:PST
DTSTART:20230101T000000
END:STANDARD
END:VTIMEZONE
BEGIN:VEVENT
DTSTART;TZID=Asia/Manila:20240720T130000
DTEND;TZID=Asia/Manila:20240720T160000
DTSTAMP:20260425T040541
CREATED:20240607T052046Z
LAST-MODIFIED:20240625T005426Z
UID:7699-1721480400-1721491200@www.thenoblemindsph.com
SUMMARY:I AM A LEADER: Building Personality and Confidence in Kids
DESCRIPTION:  \nIn this session\, the participants will be equipped with resources and skills related to leadership development. This session aims to raise awareness about the importance of providing young children with access to quality early learning opportunities. At the end of this session\, the participants will develop their self-confidence\, problem-solving\, and be pro-social and make independent decisions and choices. \nIn this program (leadership for kids) the participants will be equipped with the fundamentals of leadership. This session aims to bring leadership to kids\, maximize potential\, and prepare young leaders by giving ample skills for lifelong journeys. At the end of this session\, the participants will be able to identify various activities that will develop their skills and confidence. \n  \nDATE AND TIME \nSeminar: July 20\, 2024 (1:00pm – 4:00pm) \nPrice: P799.00 \nLocation: Mcdonald’s Magsaysay Drive\, Olongapo City \n  \nRegister Now\n  \nFor Sponsorship/Registration \nLandline: 047-611-2446 \nGlobe: 0917-613-6822 \nSmart: 0960-905-9086 \nEmail: noblemindsph@gmail.com
URL:https://www.thenoblemindsph.com/event/i-am-a-leader-building-personality-and-confidence-in-kids/
ATTACH;FMTTYPE=image/png:https://www.thenoblemindsph.com/wp-content/uploads/2024/06/I-AM-A-LEADER-1.png
ORGANIZER;CN="The Nobleminds PH":MAILTO:noblemindsph@gmail.com
END:VEVENT
END:VCALENDAR