BEGIN:VCALENDAR
VERSION:2.0
PRODID:-//The Nobleminds PH - ECPv6.15.14//NONSGML v1.0//EN
CALSCALE:GREGORIAN
METHOD:PUBLISH
X-ORIGINAL-URL:https://www.thenoblemindsph.com
X-WR-CALDESC:Events for The Nobleminds PH
REFRESH-INTERVAL;VALUE=DURATION:PT1H
X-Robots-Tag:noindex
X-PUBLISHED-TTL:PT1H
BEGIN:VTIMEZONE
TZID:Asia/Manila
BEGIN:STANDARD
TZOFFSETFROM:+0800
TZOFFSETTO:+0800
TZNAME:PST
DTSTART:20240101T000000
END:STANDARD
END:VTIMEZONE
BEGIN:VEVENT
DTSTART;TZID=Asia/Manila:20250614T090000
DTEND;TZID=Asia/Manila:20250628T120000
DTSTAMP:20260424T132356
CREATED:20250425T055244Z
LAST-MODIFIED:20250425T075044Z
UID:8408-1749891600-1751112000@www.thenoblemindsph.com
SUMMARY:Nobleminds Academy Presents: June 2025 Webinar Series
DESCRIPTION:Overview: \nThis June\, Nobleminds Academy brings together a powerful webinar series designed to equip professionals and leaders with essential skills to excel in high-pressure environments. The series integrates three critical competencies: stress management\, time mastery\, and decision-making—empowering individuals to perform at their best even in the most demanding situations. \nParticipants will gain practical tools to manage stress effectively\, sustain emotional resilience\, and prevent burnout. Through proven time management strategies\, they will learn to focus on what matters most\, eliminate distractions\, and drive results with clarity. The series also sharpens problem-solving and decision-making skills using structured thinking frameworks to navigate uncertainty\, evaluate options\, and act with confidence. \nTraining Objective: \n\nDevelop effective stress management techniques to enhance emotional resilience and prevent burnout.\nApply proven time management strategies to prioritize tasks\, eliminate distractions\, and increase productivity.\nStrengthen decision-making skills using structured thinking frameworks for navigating uncertainty and evaluating options.\nPerform confidently and efficiently in high-pressure environments by integrating stress\, time\, and decision mastery.\n\nDATE AND TIME \n\nThriving Under Pressure: Mastering Stress Management for Peak Performance\n\n9:00 am – 12:00 pm (June 14\, 2025) ₱ 399.00\n\n\nTime Mastery: Proven Time Management Strategies to Boost Productivity and Focus\n\n9:00 am – 12:00 pm (June 21\, 2025) ₱ 399.00\n\n\nDecisive Action: Sharpening Problem-Solving and Decision-Making Skills\n\n9:00 am – 12:00 pm (June 28\, 2025) ₱ 399.00\n\n\n\nRegister Now\n\n🎉 JUNE WEBINAR BUNDLE ALERT! 🎉 \n  \n✨ For only ₱1\,000\, you get to join ALL 3 powerful webinars from Nobleminds Academy! \nRegister Now\n  \n\nThe Resource Speaker and Expert \n \n\nFor Sponsorship/Registration \nLandline: 047-611-2446 \nGlobe: 0917-613-6822 \nSmart: 0960-905-9086 \nEmail: noblemindsph@gmail.com \n  \n\nStay updated on all our learning events! \nVisit our social media accounts. \n \n  \n  \n  \nGot plenty of time? Read our blogs. Click Here! \n  \n 
URL:https://www.thenoblemindsph.com/event/nobleminds-academy-presents-june-2025-webinar-series/
ATTACH;FMTTYPE=image/jpeg:https://www.thenoblemindsph.com/wp-content/uploads/2025/04/Bundle-promo-2.jpg
ORGANIZER;CN="The Nobleminds PH":MAILTO:noblemindsph@gmail.com
END:VEVENT
END:VCALENDAR