BEGIN:VCALENDAR
VERSION:2.0
PRODID:-//The Nobleminds PH - ECPv6.15.14//NONSGML v1.0//EN
CALSCALE:GREGORIAN
METHOD:PUBLISH
X-WR-CALNAME:The Nobleminds PH
X-ORIGINAL-URL:https://www.thenoblemindsph.com
X-WR-CALDESC:Events for The Nobleminds PH
REFRESH-INTERVAL;VALUE=DURATION:PT1H
X-Robots-Tag:noindex
X-PUBLISHED-TTL:PT1H
BEGIN:VTIMEZONE
TZID:Asia/Manila
BEGIN:STANDARD
TZOFFSETFROM:+0800
TZOFFSETTO:+0800
TZNAME:PST
DTSTART:20240101T000000
END:STANDARD
END:VTIMEZONE
BEGIN:VEVENT
DTSTART;TZID=Asia/Manila:20250819T090000
DTEND;TZID=Asia/Manila:20250819T120000
DTSTAMP:20260424T104258
CREATED:20250703T081821Z
LAST-MODIFIED:20250703T082212Z
UID:8456-1755594000-1755604800@www.thenoblemindsph.com
SUMMARY:From Stuck to Strong: Finding Purpose and Connection in Uncertain Times
DESCRIPTION:SESSION 2: \nFrom Stuck to Strong: Finding Purpose and Connection in Uncertain Times \nA Quiet Conversation on Isolation\, Inner Strength\, and Showing Up for Yourself \n  \nModule Description \nLet’s be honest\, life can feel heavy. \nBetween long workdays\, digital fatigue\, broken routines\, and invisible pressure to “have it all together\,” many of us are feeling disconnected\, emotionally tired\, and unsure of where we’re headed. \nFrom Stuck to Strong is a quiet\, honest conversation for Millennials and Gen Z professionals who feel overwhelmed\, unmotivated\, or quietly isolated. It’s a space to unpack the emotional weight of modern life\, loneliness\, blame\, burnout\, and begin reconnecting with what really matters. \nThis isn’t about fixing everything overnight. It’s about taking one step toward meaning\, connection\, and strength\, even when the world feels uncertain. \n  \nThree Objectives \nBy the end of this session\, attendees will: \n\nName and normalize emotions like loneliness\, emotional fatigue\, and lack of drive — without guilt or shame.\nUnderstand how blame and victim thinking can keep them stuck\, and explore tools to shift into personal power.\nReflect on their values\, purpose\, and identity as starting points to reignite connection and motivation.\n\nExpected Outcomes \nParticipants will walk away with: \n\nA sense of shared experience: “I’m not alone in feeling this way”\nSimple\, actionable mindset tools to move from stuck to forward\nA renewed sense of agency and hope\, grounded in clarity about what they care about and how they want to show up\nA journaling prompt or reflection exercise to begin re-aligning with their purpose\n\nDATE AND TIME \nWebinar via Microsoft Teams: August 19\, 2026 (9:00 AM – 12:00 PM) \nPrice: ₱899.00 \n  \nRegister Now\n  \nDiscount Scheme (Choose 1 discount scheme) \n\nPackage of 5 + 1 (send 5 delegates and get additional 1 for free)\n20% Discount for Academe/Students/Government/NGOs\n15% Discount for Early Bird/Participant\n\n\nThe Resource Speaker and Expert \n \n\nFor Sponsorship/Registration \nLandline: 047-611-2446 \nGlobe: 0917-613-6822 \nSmart: 0960-905-9086 \nEmail: noblemindsph@gmail.com \n  \nRegister Now\n  \n\nStay updated on all our learning events! \nVisit our social media accounts. \n \n  \n  \n  \nGot plenty of time? Read our blogs. Click Here!
URL:https://www.thenoblemindsph.com/event/from-stuck-to-strong-finding-purpose-and-connection-in-uncertain-times/
ATTACH;FMTTYPE=image/jpeg:https://www.thenoblemindsph.com/wp-content/uploads/2025/07/514257986_1119512920197655_7802668146147208805_n.jpg
ORGANIZER;CN="The Nobleminds PH":MAILTO:noblemindsph@gmail.com
END:VEVENT
END:VCALENDAR