BEGIN:VCALENDAR
VERSION:2.0
PRODID:-//The Nobleminds PH - ECPv6.15.14//NONSGML v1.0//EN
CALSCALE:GREGORIAN
METHOD:PUBLISH
X-WR-CALNAME:The Nobleminds PH
X-ORIGINAL-URL:https://www.thenoblemindsph.com
X-WR-CALDESC:Events for The Nobleminds PH
REFRESH-INTERVAL;VALUE=DURATION:PT1H
X-Robots-Tag:noindex
X-PUBLISHED-TTL:PT1H
BEGIN:VTIMEZONE
TZID:Asia/Manila
BEGIN:STANDARD
TZOFFSETFROM:+0800
TZOFFSETTO:+0800
TZNAME:PST
DTSTART:20250101T000000
END:STANDARD
END:VTIMEZONE
BEGIN:VEVENT
DTSTART;TZID=Asia/Manila:20260310T090000
DTEND;TZID=Asia/Manila:20260310T160000
DTSTAMP:20260424T012314
CREATED:20260115T074348Z
LAST-MODIFIED:20260126T063526Z
UID:8610-1773133200-1773158400@www.thenoblemindsph.com
SUMMARY:Stress and Productivity Management Training | 2026 Seminar
DESCRIPTION:  \nStress and Productivity Management Training: \nResets for Resilience and Focus at Work\n  \nSustaining energy and results in today’s fast-paced workplace is no longer optional\, it is essential. This Stress and Productivity Management Training is designed to help leaders stay resilient\, focused\, and effective amid constant demands\, pressure\, and change. \nModern leaders face rising workloads\, tight deadlines\, and continuous disruptions. Without the right tools\, stress can quickly lead to burnout\, reduced performance\, and disengaged teams. This leadership seminar equips participants with practical strategies to regulate stress\, sharpen focus\, and eliminate low-value tasks that drain energy and momentum. \nWhy Stress and Productivity Management Training Matters Today\nWork environments are becoming more demanding\, and constant busyness is often mistaken for productivity. Unmanaged stress leads to fatigue\, errors\, and declining performance. Effective stress and productivity management allows leaders to protect their energy\, make better decisions\, and sustain long-term results. \nThis training empowers leaders to cut through noise\, focus on what truly drives outcomes\, and lead with composure even during peak pressure periods. \nObjectives of Stress and Productivity Management Training\nThe objective of this Stress and Productivity Management Training is to empower leaders with practical tools to prevent burnout\, optimize focus\, and sustain team momentum. Participants learn how to manage stress proactively while maintaining productivity and emotional steadiness at work. \nKey Takeaways from Stress and Productivity Management Training\n\nReset under pressure to stay resilient and effective\nCut distractions and focus only on what drives real results\nRegulate stress to prevent burnout and fatigue\nModel calm authority to keep teams energized and focused\nSustain productivity without sacrificing well-being\n\nThis training is ideal for leaders\, managers\, and supervisors who want to stay sharp under pressure\, protect their teams from burnout\, and deliver consistent results in demanding work environments. \n  \nDATE AND TIME \nMARCH 10\, 2026 (9:00 AM – 04:00 PM) \nPrice: ₱2\,999.00 \nVenue: Seorabeol Grand Leisure Hotel\, Subic Bay Freeport Zone\, Zambales \n  \nRegister Now\n  \nDiscount Scheme (Choose 1 discount scheme)\nChoose one (1) applicable discount scheme \n\nGroup Package (5 + 1)Send 5 delegates and get 1 additional participant for FREE\n20% DiscountFor Academe\, Students\, Government Agencies\, and NGOs\n15% Early Bird DiscountFor participants who register on or before January 31\, 2026\n\n\nThe Resource Speaker and Expert \n \n\nFor Sponsorship/Registration \nLandline: 047-232 – 4359 \nGlobe: 0917-613-6822 \nSmart: 0960-905-9086 \nEmail: noblemindsph@gmail.com \n  \nRegister Now\n  \n\nStay updated on all our learning events! \nVisit our social media accounts. \n \n \n  \n  \n  \nGot plenty of time? Read our blogs. Click Here!
URL:https://www.thenoblemindsph.com/event/stress-and-productivity-management-training/
LOCATION:Seorable Grand Leisure Hotel
ATTACH;FMTTYPE=image/jpeg:https://www.thenoblemindsph.com/wp-content/uploads/2026/01/2026-Public-Seminar-Series-3.jpg
ORGANIZER;CN="The Nobleminds PH":MAILTO:noblemindsph@gmail.com
END:VEVENT
END:VCALENDAR