BEGIN:VCALENDAR
VERSION:2.0
PRODID:-//The Nobleminds PH - ECPv6.15.14//NONSGML v1.0//EN
CALSCALE:GREGORIAN
METHOD:PUBLISH
X-ORIGINAL-URL:https://www.thenoblemindsph.com
X-WR-CALDESC:Events for The Nobleminds PH
REFRESH-INTERVAL;VALUE=DURATION:PT1H
X-Robots-Tag:noindex
X-PUBLISHED-TTL:PT1H
BEGIN:VTIMEZONE
TZID:Asia/Manila
BEGIN:STANDARD
TZOFFSETFROM:+0800
TZOFFSETTO:+0800
TZNAME:PST
DTSTART:20250101T000000
END:STANDARD
END:VTIMEZONE
BEGIN:VEVENT
DTSTART;VALUE=DATE:20260430
DTEND;VALUE=DATE:20260501
DTSTAMP:20260424T000050
CREATED:20260331T073009Z
LAST-MODIFIED:20260408T034543Z
UID:8838-1777507200-1777593599@www.thenoblemindsph.com
SUMMARY:Stress Management and Time Mastery Webinar | April 30\, 2026
DESCRIPTION:Stress Management and Time Mastery: Double Your Impact This April\n \nRegister Now\n📌 INTRODUCTION\nThe Stress Management and Time Mastery Webinar is designed for professionals who feel overwhelmed\, distracted\, or burned out at work. \nIf you are struggling to manage stress\, stay focused\, or keep up with increasing demands\, this back-to-back webinar will help you reset\, refocus\, and perform at your best. \n\n📌 ABOUT THE WEBINAR\nThe Stress Management and Time Mastery Webinar is a back-to-back learning experience that combines two powerful sessions: \n• Beyond Burnout: Practical Tools for Stress Management• Time Mastery: Proven Time Strategies to Boost Productivity and Focus \nThis program is designed to help participants manage internal challenges such as stress and overwhelm\, while also improving external performance through better time management and focus systems. \nInstead of quick fixes\, this webinar provides practical\, actionable tools that participants can immediately apply in their daily work and personal life. \n\n📌 WHAT YOU WILL LEARN\nBy joining this Stress Management and Time Mastery Webinar\, you will: \n✔ Identify your personal stress triggers and manage them effectively✔ Apply practical techniques to reset and stay resilient throughout the day✔ Improve focus by eliminating distractions and energy drains✔ Build systems that help you work smarter\, not harder✔ Develop a sustainable productivity routine that supports long-term performance \n\n📌 WEBINAR SESSIONS\n🧠 Session 1: BEYOND BURNOUT: Practical Tools for Stress Management⏰ 9:00 AM – 12:00 PM\nLearn how to manage stress before it takes over by understanding your triggers\, applying reset techniques\, and building a sustainable stress management plan. \n\n⏱ Session 2: TIME MASTERY: Proven Time Strategies to Boost Productivity and Focus⏰ 1:00 PM – 4:00 PM\nDiscover how to eliminate distractions\, improve focus\, and build an efficient workflow system that helps you meet deadlines consistently. \n📌 EVENT DETAILS\n📅 Date: April 30\, 2026📍 Platform: Live Online via Microsoft Teams💰 Investment: ₱399 per session👉 Bundle offer available \n\n📌 WHO SHOULD ATTEND\nThis Stress Management and Time Mastery Webinar is ideal for: \n\nManagers and Team Leaders\nHR Professionals\nEmployees experiencing burnout\nProfessionals who want better work-life balance\n\n\n📌 WHY JOIN THIS WEBINAR\nMost professionals struggle not because they lack skills\, but because they are overwhelmed and unfocused. \nThis webinar helps you: \n✔ Manage stress before it affects performance✔ Regain clarity and focus in your work✔ Build systems that increase productivity✔ Perform better without burning out \nRegister Now\nStay updated on all our learning events! \nVisit our social media accounts. \n \n \n  \n  \nGot plenty of time? Read our blogs. Click Here!
URL:https://www.thenoblemindsph.com/event/stress-management-time-mastery-webinar-philippines/
ATTACH;FMTTYPE=image/jpeg:https://www.thenoblemindsph.com/wp-content/uploads/2026/03/ADS-3.jpg
ORGANIZER;CN="The Nobleminds PH":MAILTO:noblemindsph@gmail.com
END:VEVENT
END:VCALENDAR