BEGIN:VCALENDAR
VERSION:2.0
PRODID:-//The Nobleminds PH - ECPv6.15.14//NONSGML v1.0//EN
CALSCALE:GREGORIAN
METHOD:PUBLISH
X-WR-CALNAME:The Nobleminds PH
X-ORIGINAL-URL:https://www.thenoblemindsph.com
X-WR-CALDESC:Events for The Nobleminds PH
REFRESH-INTERVAL;VALUE=DURATION:PT1H
X-Robots-Tag:noindex
X-PUBLISHED-TTL:PT1H
BEGIN:VTIMEZONE
TZID:Asia/Manila
BEGIN:STANDARD
TZOFFSETFROM:+0800
TZOFFSETTO:+0800
TZNAME:PST
DTSTART:20250101T000000
END:STANDARD
END:VTIMEZONE
BEGIN:VEVENT
DTSTART;VALUE=DATE:20260529
DTEND;VALUE=DATE:20260530
DTSTAMP:20260424T051319
CREATED:20260408T065827Z
LAST-MODIFIED:20260408T065827Z
UID:8869-1780012800-1780099199@www.thenoblemindsph.com
SUMMARY:People Management and Mental Health Webinar | May 29\, 2026
DESCRIPTION:People Management and Mental Health Webinar\n \nRegister Now\n📌 INTRODUCTION\nThe Effective People Management and Mental Health Webinar is designed for professionals\, managers\, and team leaders who want to lead people better while also supporting mental health\, happiness\, and well being in the workplace. \nIf you are dealing with team pressure\, communication gaps\, accountability issues\, stress\, or emotional overload at work\, this back to back webinar will help you respond with more clarity\, confidence\, and purpose. \nThis webinar gives participants practical tools to strengthen people management skills while also building a healthier inner mindset that supports resilience and sustainable performance. \n📌 ABOUT THE WEBINAR\nThe Effective People Management and Mental Health Webinar is a back to back learning experience that combines two practical and relevant sessions: \n• Thrive From Within: Mental Health\, Happiness\, and Well Being• Effective People Management: Building Motivation\, Accountability\, and Resilience at Work \nThis program is designed to help participants grow in two essential areas of professional success. First\, it helps individuals build a healthier and more positive inner world rooted in rest\, gratitude\, and purpose. Second\, it helps leaders and professionals develop stronger people management practices based on trust\, clarity\, communication\, and accountability. \nRather than offering theories alone\, the Effective People Management and Mental Health Webinar provides practical insights and actionable strategies that participants can apply at work right away. \n📌 WHAT YOU WILL LEARN\nBy joining this Effective People Management and Mental Health Webinar\, you will: \n✔ Build a healthier and happier mindset✔ Strengthen trust\, motivation\, and communication✔ Grow resilience and purpose at work✔ Improve accountability and people management practices✔ Create a more positive and productive team environment \n📌 WEBINAR SESSIONS\n🧠 Session 1: Thrive From Within: Mental Health\, Happiness\, and Well Being\n⏰ 9:00 AM to 12:00 PM \nLearn how to clear mental and emotional clutter\, reframe negative experiences\, and cultivate a more grounded and positive inner life that supports lasting well being. \n👥 Session 2: Effective People Management: Building Motivation\, Accountability\, and Resilience at Work\n⏰ 1:00 PM to 4:00 PM \nDiscover how to motivate teams\, communicate with confidence\, and set expectations that people can follow to improve alignment\, trust\, and performance at work. \n📌 EVENT DETAILS\n📅 Date: May 29\, 2026📍 Platform: Live Online via Microsoft Teams💰 Investment: ₱399 per session👉 Limited slots available \n📌 WHO SHOULD ATTEND\nThis webinar is ideal for: \nManagers and team leadersHR professionalsSupervisors and emerging leadersEmployees who want better workplace well beingProfessionals who want to lead and communicate more effectively \n📌 WHY JOIN THIS WEBINAR\nMany workplace challenges do not come from a lack of skill alone. They often come from stress\, unclear communication\, low motivation\, weak accountability\, and poor emotional well being. \nThis webinar helps you: \n✔ Lead people with more clarity and confidence✔ Support well being while improving performance✔ Strengthen communication and accountability✔ Build a healthier and more resilient workplace culture \nRegister Now\nTake this opportunity to invest in both personal well being and leadership growth. Join the webinar and gain practical tools you can use for yourself and your team. \n  \nStay updated on all our learning events! \nVisit our social media accounts. \n \n \n  \n  \nGot plenty of time? Read our blogs. Click Here! \n  \n  \n 
URL:https://www.thenoblemindsph.com/event/people-management-and-mental-health-webinar/
ATTACH;FMTTYPE=image/jpeg:https://www.thenoblemindsph.com/wp-content/uploads/2026/04/ADS-3.jpg
ORGANIZER;CN="The Nobleminds PH":MAILTO:noblemindsph@gmail.com
END:VEVENT
END:VCALENDAR