BEGIN:VCALENDAR
VERSION:2.0
PRODID:-//The Nobleminds PH - ECPv6.15.14//NONSGML v1.0//EN
CALSCALE:GREGORIAN
METHOD:PUBLISH
X-WR-CALNAME:The Nobleminds PH
X-ORIGINAL-URL:https://www.thenoblemindsph.com
X-WR-CALDESC:Events for The Nobleminds PH
REFRESH-INTERVAL;VALUE=DURATION:PT1H
X-Robots-Tag:noindex
X-PUBLISHED-TTL:PT1H
BEGIN:VTIMEZONE
TZID:Asia/Manila
BEGIN:STANDARD
TZOFFSETFROM:+0800
TZOFFSETTO:+0800
TZNAME:PST
DTSTART:20210101T000000
END:STANDARD
END:VTIMEZONE
BEGIN:VTIMEZONE
TZID:UTC
BEGIN:STANDARD
TZOFFSETFROM:+0000
TZOFFSETTO:+0000
TZNAME:UTC
DTSTART:20210101T000000
END:STANDARD
END:VTIMEZONE
BEGIN:VEVENT
DTSTART;TZID=Asia/Manila:20230127T100000
DTEND;TZID=Asia/Manila:20230127T170000
DTSTAMP:20260425T005357
CREATED:20230106T011058Z
LAST-MODIFIED:20230126T055541Z
UID:5550-1674813600-1674838800@www.thenoblemindsph.com
SUMMARY:People Management in the Post-Pandemic Workplace: Motivate\, Empower and Lead People
DESCRIPTION:Module Description:\nIn this session\, the participants will be equipped with the necessary leadership and management skills in key areas of people management\, including motivation\, delegation and empowerment\, coaching and communication. The session is anchored on and espouses the applicability at work of the action-centered leadership framework: develop individuals\, build team\, and achieve tasks. At the end of the session\, the participants will be able to identify various strategies that will improve their relationship with their teams to make them more motivated\, empowered\, and engaged at work. \nDate and Time: January 27\, 2023 (10:00am – 5:00pm) \nLocation: Olongapo City Convention Center \nThe Resource Speaker and Expert \n \n  \nDiscount and Payment Scheme \nRegistration Fee \nPHP 3000 (Seminar) \nDiscount Scheme (Choose 1 discount scheme) \n– Package of 5 + 1 (send 5 delegates and get additional 1 for free) \n– 20% Discount for Academe/Students/Government/NGOs \n– 20% Discount for  Returning Clients/ Participants \n  \nRegister Now\n  \nFor Sponsorship/Registration \nLandline: 047-611-2446 \nGlobe: 0917-613-6822 \nSmart: 0960-905-9086 \nEmail: noblemindsph@gmail.com \nStay updated on all our learning events! \nVisit our social media accounts. \n  
URL:https://www.thenoblemindsph.com/event/people-management-in-the-post-pandemic-workplace-motivate-empower-and-lead-people/
LOCATION:Olongapo City Convention Center\, SM City Olongapo Central\, Philippines
ATTACH;FMTTYPE=image/jpeg:https://www.thenoblemindsph.com/wp-content/uploads/2023/01/SQUARE-LEADERSHIP-2.jpg
ORGANIZER;CN="The Nobleminds PH":MAILTO:noblemindsph@gmail.com
END:VEVENT
BEGIN:VEVENT
DTSTART;TZID=UTC:20221210T133000
DTEND;TZID=UTC:20221210T163000
DTSTAMP:20260425T005357
CREATED:20221129T114644Z
LAST-MODIFIED:20221204T030558Z
UID:88-1670679000-1670689800@www.thenoblemindsph.com
SUMMARY:I can be a leader
DESCRIPTION:Building Leadership Skills in Kids \n \n  \n \n \n 
URL:https://www.thenoblemindsph.com/event/i-can-be-a-leader-2/
LOCATION:McDonald’s\, Rizal Avenue\, Olongapo City
ORGANIZER;CN="The Nobleminds PH":MAILTO:noblemindsph@gmail.com
END:VEVENT
BEGIN:VEVENT
DTSTART;VALUE=DATE:20221125
DTEND;VALUE=DATE:20221126
DTSTAMP:20260425T005357
CREATED:20221129T114056Z
LAST-MODIFIED:20221129T202307Z
UID:82-1669334400-1669420799@www.thenoblemindsph.com
SUMMARY:Blue Zone of Happiness
DESCRIPTION:Thanksgiving for a Cause. \nA Night of On-going Conversation
URL:https://www.thenoblemindsph.com/event/blue-zone-of-happiness/
END:VEVENT
BEGIN:VEVENT
DTSTART;TZID=Asia/Manila:20221011T090000
DTEND;TZID=Asia/Manila:20221011T170000
DTSTAMP:20260425T005357
CREATED:20221129T235854Z
LAST-MODIFIED:20221129T235854Z
UID:5143-1665478800-1665507600@www.thenoblemindsph.com
SUMMARY:Leadership Communication at Work (Seminar)
DESCRIPTION:Educated Dialogue for meaningful conversation
URL:https://www.thenoblemindsph.com/event/leadership-communication-at-work-seminar/
LOCATION:Travelers Hotel\, Subic Bay\, Olongapo City
ORGANIZER;CN="The Nobleminds PH":MAILTO:noblemindsph@gmail.com
END:VEVENT
BEGIN:VEVENT
DTSTART;TZID=Asia/Manila:20220818T090000
DTEND;TZID=Asia/Manila:20220818T170000
DTSTAMP:20260425T005357
CREATED:20221129T234015Z
LAST-MODIFIED:20221129T234346Z
UID:5133-1660813200-1660842000@www.thenoblemindsph.com
SUMMARY:Getting Work Done: Why Shared Leadership Matters at Work (Seminar)
DESCRIPTION:
URL:https://www.thenoblemindsph.com/event/getting-work-done-why-shared-leadership-matters-at-work-seminar/
LOCATION:Travelers Hotel\, Subic Bay\, Olongapo City
ORGANIZER;CN="The Nobleminds PH":MAILTO:noblemindsph@gmail.com
END:VEVENT
END:VCALENDAR