BEGIN:VCALENDAR
VERSION:2.0
PRODID:-//The Nobleminds PH - ECPv6.15.14//NONSGML v1.0//EN
CALSCALE:GREGORIAN
METHOD:PUBLISH
X-WR-CALNAME:The Nobleminds PH
X-ORIGINAL-URL:https://www.thenoblemindsph.com
X-WR-CALDESC:Events for The Nobleminds PH
REFRESH-INTERVAL;VALUE=DURATION:PT1H
X-Robots-Tag:noindex
X-PUBLISHED-TTL:PT1H
BEGIN:VTIMEZONE
TZID:Asia/Manila
BEGIN:STANDARD
TZOFFSETFROM:+0800
TZOFFSETTO:+0800
TZNAME:PST
DTSTART:20230101T000000
END:STANDARD
END:VTIMEZONE
BEGIN:VEVENT
DTSTART;VALUE=DATE:20240614
DTEND;VALUE=DATE:20240615
DTSTAMP:20260425T040540
CREATED:20240110T031658Z
LAST-MODIFIED:20240423T072033Z
UID:7346-1718323200-1718409599@www.thenoblemindsph.com
SUMMARY:How to Manage People at Work
DESCRIPTION:Managing people is one of the most challenging roles that managers/supervisors/leadmen play in any business organizations. The employees\, being the most important asset should be provided with an ongoing support and direction to bring their talent forward and meet the needs of the business. Therefore\, managers should be able to unlock their people’s potentials and bring out the best in them. This seminar-workshop equips participants with the necessary leadership and management skills in key areas of people management\, such as motivation\, delegation and empowerment\, coaching and communication\, and leadership on the line leading towards establishing the context of a successful team. \nObjectives: \n\nTo learn new principles and practices on people management in the knowledge economy era.\nTo acquire basic knowledge about motivation and relate its concept to the day-to-day management of people at work.\nTo interpret motivation in the workplace as a tool for high performance and productivity.\nTo demonstrate a deeper understanding of the value of communication in the workplace as a process and a tool for engagement.\nTo assess the self as a leader using strength finder approach and how this self-assessment can lead to better relationship with project hires and key personnel of sub-contractors.\nTo appreciate people engagement as a tool that can build lasting success through team spirit and team development.\nTo develop processes and procedures on people management that works for the organization within the limits of manager/supervisor/ leadman in their respective department.\n\n  \nDATE AND TIME \nSeminar: June 14\, 2024 (9:00am – 4:00pm) \nPrice: P3\,000.00 \nLocation: TBA \nWebinar via Microsoft Teams: June 18\, 2024 (1:00pm – 4:00pm) \nPrice: P1\,200.00 \n  \nRegister Now\n  \nDiscount Scheme (Choose 1 discount scheme) \n\nPackage of 5 + 1 (send 5 delegates and get additional 1 for free)\n20% Discount for Academe/Students/Government/NGOs\n15% Discount for Early bird/ Participant\n\n\nThe Resource Speaker and Expert \n \n\nFor Sponsorship/Registration \nLandline: 047-611-2446 \nGlobe: 0917-613-6822 \nSmart: 0960-905-9086 \nEmail: noblemindsph@gmail.com \n  \nRegister Now\n  \n\nStay updated on all our learning events! \nVisit our social media accounts. \n \n \n \n \n  \n  \n  \nGot plenty of time? Read our blogs. Click Here! \n 
URL:https://www.thenoblemindsph.com/event/how-to-manage-people-at-work/
ATTACH;FMTTYPE=image/jpeg:https://www.thenoblemindsph.com/wp-content/uploads/2024/01/How-to-Manage-People-at-Work-s-1.jpg
ORGANIZER;CN="The Nobleminds PH":MAILTO:noblemindsph@gmail.com
END:VEVENT
BEGIN:VEVENT
DTSTART;TZID=Asia/Manila:20240618T080000
DTEND;TZID=Asia/Manila:20240618T170000
DTSTAMP:20260425T040540
CREATED:20240618T063326Z
LAST-MODIFIED:20240618T065815Z
UID:7758-1718697600-1718730000@www.thenoblemindsph.com
SUMMARY:How To Make People at Work Engaged and Motivated
DESCRIPTION:In today’s dynamic work environment\, the ability to engage and motivate employees is crucial for organizational success. This module is designed to equip participants with the knowledge and skills needed to create a positive and productive work environment that fosters employee engagement and enhances overall performance. \nObjectives: \n\nUnderstand the Importance of Employee Engagement: Participants will learn about the significance of employee engagement and its impact on organizational success\, employee satisfaction\, and productivity.\nIdentify Factors Influencing Employee Engagement: Participants will explore various factors that contribute to employee engagement\, including leadership style\, communication\, recognition\, and work culture.\nLearn Strategies to Enhance Employee Engagement: Participants will discover practical strategies and techniques to enhance employee engagement\, such as effective communication\, empowerment\, fostering a culture of trust\, and providing opportunities for growth and development.\nDevelop Skills for Motivating and Inspiring Employees: Participants will develop essential skills for motivating and inspiring employees\, including active listening\, providing constructive feedback\, setting clear expectations\, and recognizing and rewarding performance.\nCreate an Action Plan for Improving Employee Engagement: Participants will develop an action plan to implement strategies for improving employee engagement within their teams or organizations.\n\nEach Session’s Leaning Investment is P999.00 (Including E-handouts\, Training Materials\, Free flowing coffee & Certificate) \nTarget Audience: This training module is ideal for current and aspiring leaders\, supervisors\, managers\, and team leads who are responsible for guiding and managing teams within their organizations. \nDuration: The training is designed to be conducted over 2 hours\, allowing ample time for in-depth exploration of leadership principles and hands-on practice. \nDATE AND TIME \nSeminar: January 29\, 2025 (1:00am – 4:00pm) \nPrice: P999.00 \nLocation: Balanga City\, Bataan \n\nSeminar: January 31\, 2025 (1:00am – 4:00pm) \nPrice: P999.00 \nLocation: Olongapo City\, Zambales \n\nRegister Now\n  \nDiscount Scheme (Choose 1 discount scheme) \n\nPackage of 5 + 1 (send 5 delegates and get additional 1 for free)\n20% Discount for Academe/Students/Government/NGOs\n10 Sessions package for ONLY P7\,999 ( Attend all of the 10 sessions for a discounted rate)\n15% Discount for Returning Clients/ Participants\n\n\nThe Resource Speaker and Expert \n \n\nFor Sponsorship/Registration \nLandline: 047-611-2446 \nGlobe: 0917-613-6822 \nSmart: 0960-905-9086 \nEmail: noblemindsph@gmail.com \n  \nRegister Now\n  \n\nStay updated on all our learning events! \nVisit our social media accounts. \n \n  \n  \n  \nGot plenty of time? Read our blogs. Click Here!
URL:https://www.thenoblemindsph.com/event/how-to-engage-and-motivate/
ATTACH;FMTTYPE=image/jpeg:https://www.thenoblemindsph.com/wp-content/uploads/2024/06/6-1.jpg
ORGANIZER;CN="The Nobleminds PH":MAILTO:noblemindsph@gmail.com
END:VEVENT
END:VCALENDAR