BEGIN:VCALENDAR
VERSION:2.0
PRODID:-//The Nobleminds PH - ECPv6.15.14//NONSGML v1.0//EN
CALSCALE:GREGORIAN
METHOD:PUBLISH
X-WR-CALNAME:The Nobleminds PH
X-ORIGINAL-URL:https://www.thenoblemindsph.com
X-WR-CALDESC:Events for The Nobleminds PH
REFRESH-INTERVAL;VALUE=DURATION:PT1H
X-Robots-Tag:noindex
X-PUBLISHED-TTL:PT1H
BEGIN:VTIMEZONE
TZID:Asia/Manila
BEGIN:STANDARD
TZOFFSETFROM:+0800
TZOFFSETTO:+0800
TZNAME:PST
DTSTART:20230101T000000
END:STANDARD
END:VTIMEZONE
BEGIN:VEVENT
DTSTART;VALUE=DATE:20240823
DTEND;VALUE=DATE:20240824
DTSTAMP:20260425T081259
CREATED:20240625T031706Z
LAST-MODIFIED:20240719T022648Z
UID:7815-1724371200-1724457599@www.thenoblemindsph.com
SUMMARY:How to Manage People at Work
DESCRIPTION:Managing people is one of the most challenging roles managers/supervisors/leadmen play in any business organization. The employees\, being the most important asset should be provided with ongoing support and direction to bring their talent forward and meet the needs of the business. Therefore\, managers should be able to unlock their people’s potentials and bring out the best in them. This seminar-workshop equips participants with the necessary leadership and management skills in key areas of people management\, such as motivation\, delegation and empowerment\, coaching and communication\, and leadership on the line leading towards establishing the context of a successful team. \nObjectives: \n\nTo learn new principles and practices on people management in the knowledge economy era.\nTo acquire basic knowledge about motivation and relate its concept to the day-to-day management of people at work.\nTo interpret motivation in the workplace as a tool for high performance and productivity.\nTo demonstrate a deeper understanding of the value of communication in the workplace as a process and a tool for engagement.\nTo assess the self as a leader using strength finder approach and how this self-assessment can lead to better relationship with project hires and key personnel of sub-contractors.\nTo appreciate people engagement as a tool that can build lasting success through team spirit and team development.\nTo develop processes and procedures on people management that works for the organization within the limits of manager/supervisor/ leadman in their respective department.\n\n  \nEach Session’s Learning Investment is P4\,999.00 (Including E-handouts\, Training Materials\, Free flowing coffee & Certificate) \nTarget Audience: This training module is ideal for current and aspiring leaders\, supervisors\, managers\, and team leads who are responsible for guiding and managing teams within their organizations. \nDuration: The training is designed to be conducted over 7-8 hours\, allowing ample time for in-depth exploration of leadership principles and hands-on practice. \nDATE AND TIME \nSeminar: August 23\, 2024 (9:00am – 4:00pm) \nPrice: P4999.00 \nLocation: Privato Hotel\, Tomas Morato\, Quezon City\, Metro Manila \nRegister Now\n  \nDiscount Scheme (Choose 1 discount scheme) \n\nPackage of 5 + 1 (send 5 delegates and get additional 1 for free)\n20% Discount for Academe/Students/Government/NGOs\n15% Discount for Returning Clients/ Participants\n\n\nThe Resource Speaker and Expert \n \n\nFor Sponsorship/Registration \nLandline: 047-611-2446 \nGlobe: 0917-613-6822 \nSmart: 0960-905-9086 \nEmail: noblemindsph@gmail.com \n  \nRegister Now\n  \n\nStay updated on all our learning events! \nVisit our social media accounts. \n \n  \n  \n  \nGot plenty of time? Read our blogs. Click Here!
URL:https://www.thenoblemindsph.com/event/how-to-manage-people-at-work-2/
LOCATION:Privato Hotel\, 82 Scout Castor\, Tomas Morato\, Quezon City\, Philippines
ATTACH;FMTTYPE=image/jpeg:https://www.thenoblemindsph.com/wp-content/uploads/2024/06/How-to-Manage-People-at-Work-s-1.jpg
ORGANIZER;CN="The Nobleminds PH":MAILTO:noblemindsph@gmail.com
END:VEVENT
END:VCALENDAR