BEGIN:VCALENDAR
VERSION:2.0
PRODID:-//The Nobleminds PH - ECPv6.15.14//NONSGML v1.0//EN
CALSCALE:GREGORIAN
METHOD:PUBLISH
X-ORIGINAL-URL:https://www.thenoblemindsph.com
X-WR-CALDESC:Events for The Nobleminds PH
REFRESH-INTERVAL;VALUE=DURATION:PT1H
X-Robots-Tag:noindex
X-PUBLISHED-TTL:PT1H
BEGIN:VTIMEZONE
TZID:Asia/Manila
BEGIN:STANDARD
TZOFFSETFROM:+0800
TZOFFSETTO:+0800
TZNAME:PST
DTSTART:20230101T000000
END:STANDARD
END:VTIMEZONE
BEGIN:VEVENT
DTSTART;TZID=Asia/Manila:20240726T130000
DTEND;TZID=Asia/Manila:20240726T160000
DTSTAMP:20260425T091059
CREATED:20240614T055244Z
LAST-MODIFIED:20240614T075209Z
UID:7704-1721998800-1722009600@www.thenoblemindsph.com
SUMMARY:How to Lead People at Work
DESCRIPTION:The “How to Lead People at Work” training module is designed to equip participants with essential leadership skills and strategies necessary for effectively guiding and inspiring teams in the workplace. Through interactive sessions and practical exercises\, participants will explore various leadership styles\, communication techniques\, and motivational strategies to enhance team performance and achieve organizational goals. \nObjectives: \n\nUnderstand Leadership Styles: Gain insights into different leadership styles and their applications in various work environments.\nEnhance Communication Skills: Develop effective communication strategies to foster clarity\, collaboration\, and trust within teams.\nMotivate and Empower Teams: Learn techniques to motivate and empower team members\, fostering a positive and productive work culture.\nResolve Conflicts: Acquire conflict resolution skills to address challenges and promote harmonious working relationships.\nSet Goals and Delegate Tasks: Learn to set clear goals\, delegate tasks effectively\, and monitor progress to achieve desired outcomes.\nLead by Example: Cultivate personal leadership qualities and behaviors that inspire others and promote organizational values.\nPromote Innovation and Creativity: Encourage innovation and creativity among team members to drive continuous improvement and adaptability.\n\nTarget Audience: This training module is ideal for current and aspiring leaders\, supervisors\, managers\, and team leads who are responsible for guiding and managing teams within their organizations. \nDelivery Format: The training will be delivered through a combination of lectures\, case studies\, group discussions\, role-playing exercises\, and practical scenarios to ensure active participation and application of learning. \nDuration: The training is designed to be conducted over 2 hours\, allowing ample time for in-depth exploration of leadership principles and hands-on practice. \nOutcome: Participants will leave the training equipped with practical leadership skills and strategies that can be immediately applied to lead effectively\, motivate teams\, and drive organizational success. \n  \nDATE AND TIME \nSeminar: July 24 (1:00am – 4:00pm) \nPrice: P999.00 \nLocation: Balanga City\, Bataan \n\nSeminar: July 26 (1:00am – 4:00pm) \nPrice: P999.00 \nLocation: Olongapo City\, Zambales \nRegister Now\nDiscount Scheme (Choose 1 discount scheme) \n\nPackage of 5 + 1 (send 5 delegates and get additional 1 for free)\n20% Discount for Academe/Students/Government/NGOs\n10 Sessions package for ONLY P7\,999 ( Attend all of the 10 sessions for a discounted rate)\n15% Discount for Returning Clients/ Participants\n\n\nThe Resource Speaker and Expert \n \n\nFor Sponsorship/Registration \nLandline: 047-611-2446 \nGlobe: 0917-613-6822 \nSmart: 0960-905-9086 \nEmail: noblemindsph@gmail.com \n  \nRegister Now\n  \n\nStay updated on all our learning events! \nVisit our social media accounts. \n \n  \n  \n  \nGot plenty of time? Read our blogs. Click Here!
URL:https://www.thenoblemindsph.com/event/how-to-lead-people-at-work/
ATTACH;FMTTYPE=image/jpeg:https://www.thenoblemindsph.com/wp-content/uploads/2024/06/1-1.jpg
ORGANIZER;CN="The Nobleminds PH":MAILTO:noblemindsph@gmail.com
END:VEVENT
END:VCALENDAR