BEGIN:VCALENDAR
VERSION:2.0
PRODID:-//The Nobleminds PH - ECPv6.15.14//NONSGML v1.0//EN
CALSCALE:GREGORIAN
METHOD:PUBLISH
X-WR-CALNAME:The Nobleminds PH
X-ORIGINAL-URL:https://www.thenoblemindsph.com
X-WR-CALDESC:Events for The Nobleminds PH
REFRESH-INTERVAL;VALUE=DURATION:PT1H
X-Robots-Tag:noindex
X-PUBLISHED-TTL:PT1H
BEGIN:VTIMEZONE
TZID:Asia/Manila
BEGIN:STANDARD
TZOFFSETFROM:+0800
TZOFFSETTO:+0800
TZNAME:PST
DTSTART:20230101T000000
END:STANDARD
END:VTIMEZONE
BEGIN:VEVENT
DTSTART;VALUE=DATE:20240816
DTEND;VALUE=DATE:20240817
DTSTAMP:20260425T091058
CREATED:20240110T033459Z
LAST-MODIFIED:20240110T050014Z
UID:7324-1723766400-1723852799@www.thenoblemindsph.com
SUMMARY:Leadership and Generation Cohort
DESCRIPTION:Millennials are passionate and creative; they are constantly excelling at work. However\, their cohort is often misunderstood given the generational differences\, thus\, posing challenges for leaders on how to handle them at work. Yet\, this generation is quite easy to manage – they are tech-savvy and resourceful\, they do not demand trophies or special awards\, only validation through compliments and appreciation. More so\, they need mentors\, not bosses; they want balance at work and in life balance; they want meaning and purpose; they want to be relevant to the community and society. \nObjectives: \n\nTo understand the content and generation cohorts.\nTo recognize their strengths and contributions\, as well as their weaknesses and areas for improvement.\nTo make the workplace more inclusive and safer for millennials.\nTo provide a space for communication and engagement at work fit for the millennials.\nTo effectively manage a multigenerational workforce at work.\n\n  \nDATE AND TIME \nSeminar: August 16\, 2024 (9:00am – 4:00pm) \nPrice: P3\,000.00 \nLocation: TBA \nWebinar via Microsoft Teams: August 20\, 2024 (1:00pm – 4:00pm) \nPrice: P1\,200.00 \n  \nRegister Now\n  \nDiscount Scheme (Choose 1 discount scheme) \n\nPackage of 5 + 1 (send 5 delegates and get additional 1 for free)\n20% Discount for Academe/Students/Government/NGOs\n15% Discount for Early bird/Participant\n\n\nThe Resource Speaker and Expert \n \n\nFor Sponsorship/Registration \nLandline: 047-611-2446 \nGlobe: 0917-613-6822 \nSmart: 0960-905-9086 \nEmail: noblemindsph@gmail.com \n  \nRegister Now\n  \n\nStay updated on all our learning events! \nVisit our social media accounts. \n \n  \n  \n  \nGot plenty of time? Read our blogs. Click Here!
URL:https://www.thenoblemindsph.com/event/leadership-and-generation-cohort/
ATTACH;FMTTYPE=image/jpeg:https://www.thenoblemindsph.com/wp-content/uploads/2024/01/How-to-Lead-Multiple-Generations-at-Work-3.jpg
ORGANIZER;CN="The Nobleminds PH":MAILTO:noblemindsph@gmail.com
END:VEVENT
END:VCALENDAR